BEGIN:VCALENDAR
VERSION:2.0
PRODID:-//eventon.com NONSGML v1.0//EN
CALSCALE:GREGORIAN
METHOD:PUBLISH
BEGIN:VEVENT
UID:69eb7035a8ee9
DTSTAMP:20260424T132925Z
DTSTART:20260504T220000Z
DTEND:20260504T220000Z
LOCATION:Online auf tiertalk.com N/A
SUMMARY:Choice of Infinity - Die Mastermind
DESCRIPTION:[vc_row][vc_column][vc_empty_space height=&#8221;15px&#8221;][v
 c_separator color=&#8221;chino&#8221; style=&#8221;dashed&#8221;][vc_empty_
 space height=&#8221;10px&#8221;][vc_column_text css_animation=&#8221;appear
 &#8221; css=&#8221;&#8221;] Choice of Infinty &#8211; Die Mastermind [/vc_c
 olumn_text][vc_separator color=&#8221;chino&#8221; style=&#8221;dashed&#822
 1;][vc_empty_space height=&#8221;10px&#8221;][vc_column_text css=&#8221;&#8
 221;] . Option 1: Die Foundation ( Fundament ) • 3 Monate intensive Neuau
 srichtung • Jeden Dienstag Live Zoom Calls + alle 2 Wochen Mittwochs • 
 Voller Zugriff auf über 30 exklusive Schulungsvideos[..]\nhttps://www.tier
 talk.com/events/choice-of-infinity-mastermind-2/
URL:https://www.tiertalk.com/events/choice-of-infinity-mastermind-2/
END:VEVENT
END:VCALENDAR