BEGIN:VCALENDAR
VERSION:2.0
PRODID:-//eventon.com NONSGML v1.0//EN
CALSCALE:GREGORIAN
METHOD:PUBLISH
BEGIN:VEVENT
UID:69eb6fd4d4873
DTSTAMP:20260424T132748Z
DTSTART:20260515T070000Z
DTEND:20260515T130000Z
LOCATION:Online auf tiertalk.com N/A
SUMMARY:Live Online Basisseminar Tierkommunikation
DESCRIPTION:[vc_row][vc_column][vc_empty_space height=&#8221;15px&#8221;][v
 c_separator color=&#8221;chino&#8221; style=&#8221;dashed&#8221;][vc_empty_
 space height=&#8221;10px&#8221;][vc_column_text css_animation=&#8221;appear
 &#8221;] LIVE ONLINE BASISSEMINAR TIERKOMMUNIKATION [/vc_column_text][vc_se
 parator color=&#8221;chino&#8221; style=&#8221;dashed&#8221;][vc_empty_spac
 e height=&#8221;10px&#8221;][vc_column_text css=&#8221;&#8221;] Energieausg
 leich: EUR 385\, - pro Person inkl. MwSt. Veranstaltungsdatum: 15.05.2026 (
  09:00 bis 12:00 Uhr / 13:00 bis ca. 15:00 Uhr ) Voraussetzung zur Teilnahm
 e: Keine\,  jeder kann teilnehmen Inklusive: Übungsgruppe für dich und de
 in Tier[..]\nhttps://www.tiertalk.com/events/live-online-basisseminar-tierk
 ommunikation-2/
URL:https://www.tiertalk.com/events/live-online-basisseminar-tierkommunikation-2/
END:VEVENT
END:VCALENDAR