BEGIN:VCALENDAR
VERSION:2.0
PRODID:-//eventon.com NONSGML v1.0//EN
CALSCALE:GREGORIAN
METHOD:PUBLISH
BEGIN:VEVENT
UID:69eb7082cdb9c
DTSTAMP:20260424T133042Z
DTSTART:20260505
DTEND:20260506
LOCATION:Online auf tiertalk.com N/A
SUMMARY:Tierkommunikation Workshop – Dein 1. bewusster Tierkontakt
DESCRIPTION:[vc_row][vc_column][vc_empty_space height=&#8221;15px&#8221;][v
 c_separator color=&#8221;chino&#8221; style=&#8221;dashed&#8221;][vc_empty_
 space height=&#8221;20px&#8221;][vc_column_text css_animation=&#8221;appear
 &#8221; css=&#8221;&#8221;] Tierkommunikation Workshop – Dein 1. bewusste
 r Tierkontakt [/vc_column_text][vc_separator color=&#8221;chino&#8221; styl
 e=&#8221;dashed&#8221;][vc_empty_space height=&#8221;10px&#8221;][vc_column
 _text css=&#8221;&#8221;] . Option 1: Workshop Ticket ( kostenlos ) • Tei
 lnahme am Workshop • Wertvolle Impulse für deinen Weg in die Tierkommuni
 kation • Die Möglichkeit\,  deine Fragen live zu stellen • Invest:[..]
 \nhttps://www.tiertalk.com/events/tierkommunikation-workshop-erster-kontakt
 -2/
URL:https://www.tiertalk.com/events/tierkommunikation-workshop-erster-kontakt-2/
END:VEVENT
END:VCALENDAR